BEGIN:VCALENDAR
VERSION:2.0
PRODID:-//CGIA - ECPv6.15.20//NONSGML v1.0//EN
CALSCALE:GREGORIAN
METHOD:PUBLISH
X-ORIGINAL-URL:https://cgia.org
X-WR-CALDESC:Events for CGIA
REFRESH-INTERVAL;VALUE=DURATION:PT1H
X-Robots-Tag:noindex
X-PUBLISHED-TTL:PT1H
BEGIN:VTIMEZONE
TZID:America/Los_Angeles
BEGIN:DAYLIGHT
TZOFFSETFROM:-0800
TZOFFSETTO:-0700
TZNAME:PDT
DTSTART:20240310T100000
END:DAYLIGHT
BEGIN:STANDARD
TZOFFSETFROM:-0700
TZOFFSETTO:-0800
TZNAME:PST
DTSTART:20241103T090000
END:STANDARD
BEGIN:DAYLIGHT
TZOFFSETFROM:-0800
TZOFFSETTO:-0700
TZNAME:PDT
DTSTART:20250309T100000
END:DAYLIGHT
BEGIN:STANDARD
TZOFFSETFROM:-0700
TZOFFSETTO:-0800
TZNAME:PST
DTSTART:20251102T090000
END:STANDARD
BEGIN:DAYLIGHT
TZOFFSETFROM:-0800
TZOFFSETTO:-0700
TZNAME:PDT
DTSTART:20260308T100000
END:DAYLIGHT
BEGIN:STANDARD
TZOFFSETFROM:-0700
TZOFFSETTO:-0800
TZNAME:PST
DTSTART:20261101T090000
END:STANDARD
END:VTIMEZONE
BEGIN:VEVENT
DTSTART;TZID=America/Los_Angeles:20250924T090000
DTEND;TZID=America/Los_Angeles:20250924T120000
DTSTAMP:20260423T212810
CREATED:20250916T165615Z
LAST-MODIFIED:20250916T165615Z
UID:1295838-1758704400-1758715200@cgia.org
SUMMARY:Sacramento GIS User Group Meeting
DESCRIPTION:Presentations by local GIS professionals and ample networking opportunities
URL:https://cgia.org/calendar/sacramento-gis-user-group-meeting/
LOCATION:Sacramento City Council Chambers\, 915 I Street\, Sacramento\, CA\, 95814\, United States
END:VEVENT
END:VCALENDAR