BEGIN:VCALENDAR
VERSION:2.0
PRODID:-//CGIA - ECPv6.15.20//NONSGML v1.0//EN
CALSCALE:GREGORIAN
METHOD:PUBLISH
X-ORIGINAL-URL:https://cgia.org
X-WR-CALDESC:Events for CGIA
REFRESH-INTERVAL;VALUE=DURATION:PT1H
X-Robots-Tag:noindex
X-PUBLISHED-TTL:PT1H
BEGIN:VTIMEZONE
TZID:America/Los_Angeles
BEGIN:DAYLIGHT
TZOFFSETFROM:-0800
TZOFFSETTO:-0700
TZNAME:PDT
DTSTART:20230312T100000
END:DAYLIGHT
BEGIN:STANDARD
TZOFFSETFROM:-0700
TZOFFSETTO:-0800
TZNAME:PST
DTSTART:20231105T090000
END:STANDARD
BEGIN:DAYLIGHT
TZOFFSETFROM:-0800
TZOFFSETTO:-0700
TZNAME:PDT
DTSTART:20240310T100000
END:DAYLIGHT
BEGIN:STANDARD
TZOFFSETFROM:-0700
TZOFFSETTO:-0800
TZNAME:PST
DTSTART:20241103T090000
END:STANDARD
BEGIN:DAYLIGHT
TZOFFSETFROM:-0800
TZOFFSETTO:-0700
TZNAME:PDT
DTSTART:20250309T100000
END:DAYLIGHT
BEGIN:STANDARD
TZOFFSETFROM:-0700
TZOFFSETTO:-0800
TZNAME:PST
DTSTART:20251102T090000
END:STANDARD
END:VTIMEZONE
BEGIN:VEVENT
DTSTART;TZID=America/Los_Angeles:20240629T100000
DTEND;TZID=America/Los_Angeles:20240629T163000
DTSTAMP:20260424T202044
CREATED:20240507T230909Z
LAST-MODIFIED:20240507T230909Z
UID:1294397-1719655200-1719678600@cgia.org
SUMMARY:California Map Society Conference
DESCRIPTION:California Map Society Conference \nSaturday\, June 29\, 2024 \nDavid Rumsey Map Center \nGreen Library\, Stanford University \n10:00 am - 4:30 pm \nJoin us on June 29\, 2024\, for a gathering of map\, history\, art and science lovers\, to hear from a superb group of speakers about Early Americana\, as well as a few more modern-day mapping. To register for attending either in-person\, click here. To attend virtually\, click here. (Registration handled by David Rumsey Map Center.) \nDoors will open at 10:00am and presentations will begin sharply at 10:30am. \nI look forward to seeing you! \nThanks\, \nTom Paper \nCalifornia Map Society\, tom@websterpacific.com \n\n\n\nSpeaker\nTopic\n\n\nDavid Rumsey\nGlobes in Apple Vision Pro. There will be two headsets at the DRMC for people to use to explore the globes.\n\n\nRon Gibbs\nThe 250th Anniversary of the American Revolution: The Story in Ten Maps\n\n\nWes Brown\nJohn Arrowsmith’s Maps of 1832: A Little-Known Revolution in Western Cartography\n\n\n Dan Scollon\nHow historic maps inform contemporary\, digital and GIS maps\n\n\n Andrew Gu\nRace-Making in the Early American Maps and Art from the collection of Rich Breiman\n\n\n Paul Saffo\nSilicon Valley: How the map of a place that never existed changed your neighborhood (and the world) forever\n\n\n Jake Coolidge\n Maps of the US National Parks\, Parkgoer Engagement and Historical Context\n\n\n Muhammed Dhafer\nCalifornia Map Society 2023/24 Student Exhibition Competition Winner: "Charting the Rubble: Devastation and Rebuilding from Disasters"
URL:https://cgia.org/calendar/california-map-society-conference/
LOCATION:Green Library\, Standford University\, 57 Escondido Mall\, Stanford\, CA\, 94305\, United States
END:VEVENT
END:VCALENDAR