BEGIN:VCALENDAR
VERSION:2.0
PRODID:-//CGIA - ECPv6.15.20//NONSGML v1.0//EN
CALSCALE:GREGORIAN
METHOD:PUBLISH
X-ORIGINAL-URL:https://cgia.org
X-WR-CALDESC:Events for CGIA
REFRESH-INTERVAL;VALUE=DURATION:PT1H
X-Robots-Tag:noindex
X-PUBLISHED-TTL:PT1H
BEGIN:VTIMEZONE
TZID:America/Los_Angeles
BEGIN:DAYLIGHT
TZOFFSETFROM:-0800
TZOFFSETTO:-0700
TZNAME:PDT
DTSTART:20220313T100000
END:DAYLIGHT
BEGIN:STANDARD
TZOFFSETFROM:-0700
TZOFFSETTO:-0800
TZNAME:PST
DTSTART:20221106T090000
END:STANDARD
BEGIN:DAYLIGHT
TZOFFSETFROM:-0800
TZOFFSETTO:-0700
TZNAME:PDT
DTSTART:20230312T100000
END:DAYLIGHT
BEGIN:STANDARD
TZOFFSETFROM:-0700
TZOFFSETTO:-0800
TZNAME:PST
DTSTART:20231105T090000
END:STANDARD
BEGIN:DAYLIGHT
TZOFFSETFROM:-0800
TZOFFSETTO:-0700
TZNAME:PDT
DTSTART:20240310T100000
END:DAYLIGHT
BEGIN:STANDARD
TZOFFSETFROM:-0700
TZOFFSETTO:-0800
TZNAME:PST
DTSTART:20241103T090000
END:STANDARD
END:VTIMEZONE
BEGIN:VEVENT
DTSTART;VALUE=DATE:20231016
DTEND;VALUE=DATE:20231020
DTSTAMP:20260425T072422
CREATED:20230913T133311Z
LAST-MODIFIED:20230913T133329Z
UID:1293503-1697414400-1697759999@cgia.org
SUMMARY:GIS-Pro 2023
DESCRIPTION:The GIS Community will gather in Columbus\, Ohio for education\, training\, connections\, and solutions. Take advantage of the opportunity to engage and discuss\, learn from different perspectives and enjoy relevant and invaluable peer-to-peer interaction. GIS professionals from across the country developed an educational agenda that is second to none and relevant in today's challenging environment.
URL:https://cgia.org/calendar/gis-pro-2023/
LOCATION:Hilton Columbus Downtown\, 401 North High Stree\, Columbus\, OH\, 43215\, United States
END:VEVENT
END:VCALENDAR