BEGIN:VCALENDAR
VERSION:2.0
PRODID:-//CGIA - ECPv6.15.20//NONSGML v1.0//EN
CALSCALE:GREGORIAN
METHOD:PUBLISH
X-ORIGINAL-URL:https://cgia.org
X-WR-CALDESC:Events for CGIA
REFRESH-INTERVAL;VALUE=DURATION:PT1H
X-Robots-Tag:noindex
X-PUBLISHED-TTL:PT1H
BEGIN:VTIMEZONE
TZID:America/Los_Angeles
BEGIN:DAYLIGHT
TZOFFSETFROM:-0800
TZOFFSETTO:-0700
TZNAME:PDT
DTSTART:20220313T100000
END:DAYLIGHT
BEGIN:STANDARD
TZOFFSETFROM:-0700
TZOFFSETTO:-0800
TZNAME:PST
DTSTART:20221106T090000
END:STANDARD
BEGIN:DAYLIGHT
TZOFFSETFROM:-0800
TZOFFSETTO:-0700
TZNAME:PDT
DTSTART:20230312T100000
END:DAYLIGHT
BEGIN:STANDARD
TZOFFSETFROM:-0700
TZOFFSETTO:-0800
TZNAME:PST
DTSTART:20231105T090000
END:STANDARD
BEGIN:DAYLIGHT
TZOFFSETFROM:-0800
TZOFFSETTO:-0700
TZNAME:PDT
DTSTART:20240310T100000
END:DAYLIGHT
BEGIN:STANDARD
TZOFFSETFROM:-0700
TZOFFSETTO:-0800
TZNAME:PST
DTSTART:20241103T090000
END:STANDARD
END:VTIMEZONE
BEGIN:VEVENT
DTSTART;TZID=America/Los_Angeles:20230914T100000
DTEND;TZID=America/Los_Angeles:20230914T120000
DTSTAMP:20260425T084152
CREATED:20230913T133541Z
LAST-MODIFIED:20230913T133613Z
UID:1293507-1694685600-1694692800@cgia.org
SUMMARY:CGIA Community Council Quarterly Meeting
DESCRIPTION:The next quarterly meeting of the CGIA Community Council is planned for Thursday\, September 14\, 10:00 a.m. to 12 noon. This web meeting will be held on Zoom. Please register to receive the join information at: https://us06web.zoom.us/meeting/register/tZYkfuuhpjwtH9Q-K74gjT9Y-4t01riEoqbc After you register you will receive an email from Zoom with a link to add the meeting to your calendar. \nThe agenda is posted at this link. \nThe meeting features a presentation on the NOAA Coastal Change Analysis Program’s release of a new 1-meter resolution land cover product\, A short presentation on FIRIS\, the Fire Integrated Real-time Intelligence System that provides real-time intelligence data and analysis on emerging disaster incidents in California\, a report on the National States Geographic Information Council’s initiatives regarding National Spatial Data Infrastructure\, updates from the California Department of Technology\, and more. \nThe meeting will be recorded for note-taking purposes only. Highlights from the June meeting are available at this link .
URL:https://cgia.org/calendar/cgia-community-council-quarterly-meeting/
CATEGORIES:CGIA Event
END:VEVENT
BEGIN:VEVENT
DTSTART;TZID=America/Los_Angeles:20230921T090000
DTEND;TZID=America/Los_Angeles:20230921T113000
DTSTAMP:20260425T084152
CREATED:20230908T183908Z
LAST-MODIFIED:20230908T183909Z
UID:1293486-1695286800-1695295800@cgia.org
SUMMARY:Inland Empire GIS User Group Meeting
DESCRIPTION:
URL:https://cgia.org/calendar/inland-empire-gis-user-group-meeting/
LOCATION:Elsinore Valley Municipal Water District HQ\, 31315 Chaney St\, Lake Elsinore\, CA\, 92530\, United States
CATEGORIES:Community Events
END:VEVENT
BEGIN:VEVENT
DTSTART;TZID=America/Los_Angeles:20230922T100000
DTEND;TZID=America/Los_Angeles:20230922T140000
DTSTAMP:20260425T084152
CREATED:20230919T010751Z
LAST-MODIFIED:20230919T010815Z
UID:1293518-1695376800-1695391200@cgia.org
SUMMARY:California Native American Day (State Capitol)
DESCRIPTION:Protecting Our People Through Sovereignty: Past\, Present\, and Future\n56th Annual California Native American Day at the California State Capitol Building \nFriday\, September 22\, 2023 from 10:00 AM to 2:00 PM \n 
URL:https://cgia.org/calendar/1293518/
LOCATION:California State Capitol Building\, 1315 10th St\, Sacramento\, CA\, 95814\, United States
CATEGORIES:Community Events
END:VEVENT
END:VCALENDAR