BEGIN:VCALENDAR
VERSION:2.0
PRODID:-//CGIA - ECPv6.15.20//NONSGML v1.0//EN
CALSCALE:GREGORIAN
METHOD:PUBLISH
X-ORIGINAL-URL:https://cgia.org
X-WR-CALDESC:Events for CGIA
REFRESH-INTERVAL;VALUE=DURATION:PT1H
X-Robots-Tag:noindex
X-PUBLISHED-TTL:PT1H
BEGIN:VTIMEZONE
TZID:America/Los_Angeles
BEGIN:DAYLIGHT
TZOFFSETFROM:-0800
TZOFFSETTO:-0700
TZNAME:PDT
DTSTART:20220313T100000
END:DAYLIGHT
BEGIN:STANDARD
TZOFFSETFROM:-0700
TZOFFSETTO:-0800
TZNAME:PST
DTSTART:20221106T090000
END:STANDARD
BEGIN:DAYLIGHT
TZOFFSETFROM:-0800
TZOFFSETTO:-0700
TZNAME:PDT
DTSTART:20230312T100000
END:DAYLIGHT
BEGIN:STANDARD
TZOFFSETFROM:-0700
TZOFFSETTO:-0800
TZNAME:PST
DTSTART:20231105T090000
END:STANDARD
BEGIN:DAYLIGHT
TZOFFSETFROM:-0800
TZOFFSETTO:-0700
TZNAME:PDT
DTSTART:20240310T100000
END:DAYLIGHT
BEGIN:STANDARD
TZOFFSETFROM:-0700
TZOFFSETTO:-0800
TZNAME:PST
DTSTART:20241103T090000
END:STANDARD
BEGIN:DAYLIGHT
TZOFFSETFROM:-0800
TZOFFSETTO:-0700
TZNAME:PDT
DTSTART:20250309T100000
END:DAYLIGHT
BEGIN:STANDARD
TZOFFSETFROM:-0700
TZOFFSETTO:-0800
TZNAME:PST
DTSTART:20251102T090000
END:STANDARD
BEGIN:DAYLIGHT
TZOFFSETFROM:-0800
TZOFFSETTO:-0700
TZNAME:PDT
DTSTART:20260308T100000
END:DAYLIGHT
BEGIN:STANDARD
TZOFFSETFROM:-0700
TZOFFSETTO:-0800
TZNAME:PST
DTSTART:20261101T090000
END:STANDARD
END:VTIMEZONE
BEGIN:VEVENT
DTSTART;TZID=America/Los_Angeles:20251112T080000
DTEND;TZID=America/Los_Angeles:20251112T160000
DTSTAMP:20260423T102131
CREATED:20251107T024432Z
LAST-MODIFIED:20251107T024432Z
UID:1295937-1762934400-1762963200@cgia.org
SUMMARY:CA State GIS Day
DESCRIPTION:
URL:https://cgia.org/calendar/ca-state-gis-day/
LOCATION:CA
END:VEVENT
BEGIN:VEVENT
DTSTART;TZID=America/Los_Angeles:20250924T090000
DTEND;TZID=America/Los_Angeles:20250924T120000
DTSTAMP:20260423T102131
CREATED:20250916T165615Z
LAST-MODIFIED:20250916T165615Z
UID:1295838-1758704400-1758715200@cgia.org
SUMMARY:Sacramento GIS User Group Meeting
DESCRIPTION:Presentations by local GIS professionals and ample networking opportunities
URL:https://cgia.org/calendar/sacramento-gis-user-group-meeting/
LOCATION:Sacramento City Council Chambers\, 915 I Street\, Sacramento\, CA\, 95814\, United States
END:VEVENT
BEGIN:VEVENT
DTSTART;TZID=America/Los_Angeles:20250806T100000
DTEND;TZID=America/Los_Angeles:20250806T110000
DTSTAMP:20260423T102131
CREATED:20250723T172656Z
LAST-MODIFIED:20250723T172656Z
UID:1295735-1754474400-1754478000@cgia.org
SUMMARY:USGS Data Collaboration Announcement Webinar 8/6
DESCRIPTION:On August 6th at 10:00 AM Pacific Time\, USGS will host an informational webinar to provide an overview of the Fiscal Year 2026 (FY26) 3D National Topography Model (3DNTM) Data Collaboration Announcement (DCA) for the 3D Hydrography Program | U.S. Geological Survey (3DEP) and the 3D Hydrography Program (3DHP).  The 3DNTM is an initiative that updates\, improves\, and integrates USGS elevation and hydrography data to support the most demanding scientific requirements and enable data-driven decisions across user communities.  The DCA provides a mechanism for partnering with the USGS and other Federal Agencies to acquire high-quality 3D Elevation or 3D Hydrography data to give the nation high-resolution topographic products to support a broad array of applications. \nInformation on the 3DNTM DCA and how to join the webinar can be found at: https://www.usgs.gov/3DNTM/DCA \nLink to register: https://events.gcc.teams.microsoft.com/event/f41b14cc-7b68-4303-b776-087872d44856@0693b5ba-4b18-4d7b-9341-f32f400a5494 \nQuestions may be directed to Drew Decker\, our USGS National Map Liaison\, at ddecker@usgs.gov
URL:https://cgia.org/calendar/usgs-data-collaboration-announcement-webinar-8-6/
LOCATION:CA
END:VEVENT
BEGIN:VEVENT
DTSTART;VALUE=DATE:20250731
DTEND;VALUE=DATE:20250802
DTSTAMP:20260423T102131
CREATED:20250723T173904Z
LAST-MODIFIED:20250723T173904Z
UID:1295737-1753920000-1754092799@cgia.org
SUMMARY:California Native American Tribal GIS Summit 2025
DESCRIPTION:CA Tribal GIS and CA State Water Resources Control Board is co-hosting the 1st California Native American Tribal GIS Summit 2025.  On July 31 and August1\, 2025.  Our Summit's theme - "Honoring Place\, Empowering Nations" - focusing on the use of GIS in managing natural resources and protection of cultural landscapes.  We will be hosting event in the Cal/EPA Building the Inaugural California Native American Tribal GIS Summit 2025. This event is free and portions of the summit will be both on-site and virtual.  Our Summit’s website is GIS Summit or https://catribalgis.org/gis-summit-1  We encourage CGIA Members to register as "virtual" participants.  Attached is current summit's current listing of participants title and Tribe/Organization/School\, agenda\, and presentation descriptions.\n\nIf you have any questions about this Summit - contact Donna Miranda-Begay\, CEO - CA Tribal GIS and CGIA Board Member\, at 916 548-5949 or email donnabegay@yahoo.com
URL:https://cgia.org/calendar/california-native-american-tribal-gis-summit-2025/
LOCATION:California Environmental Protection Agency\, 1101 I St.\, Sacramento\, CA\, 95814\, United States
END:VEVENT
BEGIN:VEVENT
DTSTART;TZID=America/Los_Angeles:20241120T090000
DTEND;TZID=America/Los_Angeles:20241120T150000
DTSTAMP:20260423T102131
CREATED:20240924T042805Z
LAST-MODIFIED:20240924T042852Z
UID:1294709-1732093200-1732114800@cgia.org
SUMMARY:LA County GIS Day 2024
DESCRIPTION:Los Angeles County began hosting its own GIS Day event in 2008 to promote GIS awareness\, education\, and training. Our Los Angeles County event provides a showcase for the work the Enterprise GIS Steering committee has done to support the efficient and effective use of GIS across county departments while eliminating duplication\, reducing costs\, and to facilitate sharing and exchange of geographic data\, methods\, and knowledge. \nSince 2008\, the Los Angeles County GIS Day event has grown to become one of the largest in the nation bringing together County Departments alongside our many partners in local government\, academia\, and industry.
URL:https://cgia.org/calendar/la-county-gis-day-2024/
LOCATION:Gloria Molina Grand Park\, 200 N Grand Ave\, Los Angeles\, CA\, 90012\, United States
END:VEVENT
BEGIN:VEVENT
DTSTART;TZID=America/Los_Angeles:20241108T120000
DTEND;TZID=America/Los_Angeles:20241108T140000
DTSTAMP:20260423T102131
CREATED:20241014T165252Z
LAST-MODIFIED:20241014T165252Z
UID:1294756-1731067200-1731074400@cgia.org
SUMMARY:CGIA Annual Meeting 2024
DESCRIPTION:This exclusive members-only event will take place on November 8th\, with special presentations from members showcasing recent work examples. Please use the form below to register your interest.
URL:https://cgia.org/calendar/cgia-annual-meeting-2024/
LOCATION:CA
END:VEVENT
BEGIN:VEVENT
DTSTART;TZID=America/Los_Angeles:20240715T180000
DTEND;TZID=America/Los_Angeles:20240715T200000
DTSTAMP:20260423T102131
CREATED:20240514T032255Z
LAST-MODIFIED:20240627T163930Z
UID:1294415-1721066400-1721073600@cgia.org
SUMMARY:CGIA 2024 UC Event - 30th Birthday Bash!
DESCRIPTION:Come join us for the CGIA Awards Ceremony\, hors d'oeuvres\, drinks\, and great conversations! Just a short walk from the convention center. \nRSVP to the event here. \n 
URL:https://cgia.org/calendar/cgia-2024-uc/
LOCATION:Revel Revel\, 868 5th Ave\, San Diego\, CA\, 92101\, United States
ORGANIZER;CN="CGIA":MAILTO:chair@cgia.org
END:VEVENT
BEGIN:VEVENT
DTSTART;TZID=America/Los_Angeles:20240629T100000
DTEND;TZID=America/Los_Angeles:20240629T163000
DTSTAMP:20260423T102131
CREATED:20240507T230909Z
LAST-MODIFIED:20240507T230909Z
UID:1294397-1719655200-1719678600@cgia.org
SUMMARY:California Map Society Conference
DESCRIPTION:California Map Society Conference \nSaturday\, June 29\, 2024 \nDavid Rumsey Map Center \nGreen Library\, Stanford University \n10:00 am - 4:30 pm \nJoin us on June 29\, 2024\, for a gathering of map\, history\, art and science lovers\, to hear from a superb group of speakers about Early Americana\, as well as a few more modern-day mapping. To register for attending either in-person\, click here. To attend virtually\, click here. (Registration handled by David Rumsey Map Center.) \nDoors will open at 10:00am and presentations will begin sharply at 10:30am. \nI look forward to seeing you! \nThanks\, \nTom Paper \nCalifornia Map Society\, tom@websterpacific.com \n\n\n\nSpeaker\nTopic\n\n\nDavid Rumsey\nGlobes in Apple Vision Pro. There will be two headsets at the DRMC for people to use to explore the globes.\n\n\nRon Gibbs\nThe 250th Anniversary of the American Revolution: The Story in Ten Maps\n\n\nWes Brown\nJohn Arrowsmith’s Maps of 1832: A Little-Known Revolution in Western Cartography\n\n\n Dan Scollon\nHow historic maps inform contemporary\, digital and GIS maps\n\n\n Andrew Gu\nRace-Making in the Early American Maps and Art from the collection of Rich Breiman\n\n\n Paul Saffo\nSilicon Valley: How the map of a place that never existed changed your neighborhood (and the world) forever\n\n\n Jake Coolidge\n Maps of the US National Parks\, Parkgoer Engagement and Historical Context\n\n\n Muhammed Dhafer\nCalifornia Map Society 2023/24 Student Exhibition Competition Winner: "Charting the Rubble: Devastation and Rebuilding from Disasters"
URL:https://cgia.org/calendar/california-map-society-conference/
LOCATION:Green Library\, Standford University\, 57 Escondido Mall\, Stanford\, CA\, 94305\, United States
END:VEVENT
BEGIN:VEVENT
DTSTART;TZID=America/Los_Angeles:20240507T093000
DTEND;TZID=America/Los_Angeles:20240507T150000
DTSTAMP:20260423T102131
CREATED:20240405T021221Z
LAST-MODIFIED:20240405T021221Z
UID:1294233-1715074200-1715094000@cgia.org
SUMMARY:2024 Arts Datathon: Discovery
DESCRIPTION:The Arts Datathon is an annual gathering of creative minds and data enthusiasts. This year\, MaptimeLA will be joining forces to host a civic art mapathon where participants will the County's Civic Art collection to Google Maps and OpenStreetMap.
URL:https://cgia.org/calendar/2024-arts-datathon-discovery/
LOCATION:Inner-City Arts\, 720 Kohler St\, Los Angeles\, CA\, 90021\, United States
END:VEVENT
BEGIN:VEVENT
DTSTART;VALUE=DATE:20240503
DTEND;VALUE=DATE:20240504
DTSTAMP:20260423T102131
CREATED:20240304T035606Z
LAST-MODIFIED:20240304T035606Z
UID:1294062-1714694400-1714780799@cgia.org
SUMMARY:CGIA Awards Nomination Deadline
DESCRIPTION:Nominate your projects and co-workers for this year's CGIA Awards before May 3rd!\n\nhttps://cgia.org/about-cgia/cgia-awards-program/
URL:https://cgia.org/calendar/cgia-awards-nomination-deadline/
LOCATION:CA
ORGANIZER;CN="CGIA":MAILTO:chair@cgia.org
END:VEVENT
BEGIN:VEVENT
DTSTART;VALUE=DATE:20240423
DTEND;VALUE=DATE:20240426
DTSTAMP:20260423T102131
CREATED:20240405T051355Z
LAST-MODIFIED:20240405T051355Z
UID:1294241-1713830400-1714089599@cgia.org
SUMMARY:2024 International Humanitarian Mapathon
DESCRIPTION:The International Humanitarian Mapathon is an opportunity for mappers from around the world to learn and practice mapping skills by contributing to humanitarian efforts. This year’s 2024 Mapathon will span 3 days and will include HOTOSM mapping\, a UN Crisis Map Challenge\, and a chance to connect with fellow mappers from around the world. MaptimeLA will be hosting in-person events at the Metro headquarters next to Los Angeles Union Station.
URL:https://cgia.org/calendar/2024-international-humanitarian-mapathon/
LOCATION:CA
END:VEVENT
BEGIN:VEVENT
DTSTART;TZID=America/Los_Angeles:20240403T120000
DTEND;TZID=America/Los_Angeles:20240403T130000
DTSTAMP:20260423T102131
CREATED:20240324T195429Z
LAST-MODIFIED:20240324T195429Z
UID:1294221-1712145600-1712149200@cgia.org
SUMMARY:2024 CGIA Professional Development Series #2: What Other Letters Can You Put After Your Name: Certs & Degrees in GIS (April 3rd)
DESCRIPTION:CGIA is thrilled to announce our Professional Development Speaker Series and Workshop\, aimed at fostering the growth of GIS professionals and enhancing career prospects in the industry. This session serves as a continuation of our initial discussion\, which delved deeply into the advantages and disadvantages of obtaining a GISP certification. For session #2\, we extend a warm invitation to the GIS Community and our members to explore the reasons why individuals might view your certification or degree program as a valuable alternative or complement to a GISP. Join us for our upcoming session titled "What Other Letters Can You Put After Your Name: Certs & Degrees in GIS" on April 3rd. We are honored to have distinguished speakers including Al Karlin\, Ph.D\, CMS-l\, GISP\, Bobby Viola\, and Ruijin Ma\, Ph.D.\n\nRSVP\nTopic: CGIA Professional Development Series #2: What Other Letters Can You Put After Your Name: Certs & Degrees in GIS\nDate and Time: Wednesday\, April 3rd\, 2024 (12 noon - 1 pm PST)\nZoom Registration Link: https://us06web.zoom.us/meeting/register/tZMtcOigrTguG90OJCVmvcEUvfIk39mgAUM7
URL:https://cgia.org/calendar/2024-cgia-professional-development-series-2-what-other-letters-can-you-put-after-your-name-certs-degrees-in-gis-april-3rd/
LOCATION:CA
CATEGORIES:CGIA Event
ORGANIZER;CN="CGIA":MAILTO:chair@cgia.org
END:VEVENT
BEGIN:VEVENT
DTSTART;TZID=America/Los_Angeles:20240328T123000
DTEND;TZID=America/Los_Angeles:20240328T133000
DTSTAMP:20260423T102131
CREATED:20240324T195324Z
LAST-MODIFIED:20240324T195324Z
UID:1294219-1711629000-1711632600@cgia.org
SUMMARY:CGIA Conversation Webinar #3: Rural Equity and GIS
DESCRIPTION:Please join us for the the third session of CGIA's Conversation Series on GIS & Equity. Register here:\n \nhttps://us06web.zoom.us/meeting/register/tZwrc-uupzkoEtNscY_Jc7baO7-okzBctChG \nRural areas of California face unique challenges in comparison to their urban counterparts. In this conversation we will talk with Kelly Sheen\, Director of the Trinity County Resource Conservation District\, and Jackie Froeming\, a GIS Specialist with Modoc County. Kelly will discuss some of the ways GIS is supporting community wildfire resilience\, recreation enhancement\, regulation of marijuana growers\, and support of the dispersed population in this mountainous region. Jackie will give some background on Modoc County\, among the most remote and lightly populated counties in California. Economic challenges and a shrinking population present resource challenges when it comes to GIS implementation.\n\nThis event will be recorded and posted on the CGIA website afterwards. To join this conversation\, please use this link to register and receive the Zoom connection information. Questions about this event may be directed to chair@cgia.org. \n  \nCGIA_flyer_2023_24Series_Session3
URL:https://cgia.org/calendar/cgia-conversation-webinar-3-rural-equity-and-gis/
LOCATION:CA
CATEGORIES:CGIA Event
ORGANIZER;CN="CGIA":MAILTO:chair@cgia.org
END:VEVENT
BEGIN:VEVENT
DTSTART;VALUE=DATE:20240318
DTEND;VALUE=DATE:20240321
DTSTAMP:20260423T102131
CREATED:20230824T010818Z
LAST-MODIFIED:20240109T141035Z
UID:1293451-1710720000-1710979199@cgia.org
SUMMARY:CalGIS 2024 Conference
DESCRIPTION:Hosted by California URISA\, CalGIS features education and training\, and ample opportunities to build your professional network and find solutions. \nThere is no better venue to connect with the California Geospatial Community than CalGIS!  Don't miss preconference workshops and training\, keynote speakers\, breakout sessions\, networking\, and a Solutions Showcase in the exhibit hall. \nAttendance at CalGIS earns  substantial GISP® Education Points! \nCheck out the detailed conference program agenda HERE. \n 
URL:https://cgia.org/calendar/calgis-2024-conference/
LOCATION:CA
CATEGORIES:Community Events
END:VEVENT
BEGIN:VEVENT
DTSTART;TZID=America/Los_Angeles:20240314T100000
DTEND;TZID=America/Los_Angeles:20240314T120000
DTSTAMP:20260423T102131
CREATED:20230913T133944Z
LAST-MODIFIED:20230913T133945Z
UID:1293515-1710410400-1710417600@cgia.org
SUMMARY:CGIA Community Council - Quarterly Meeting (March 2024)
DESCRIPTION:More details to come.
URL:https://cgia.org/calendar/cgia-community-council-quarterly-meeting-march-2024/
LOCATION:CA
CATEGORIES:CGIA Event
END:VEVENT
BEGIN:VEVENT
DTSTART;TZID=America/Los_Angeles:20240223T080000
DTEND;TZID=America/Los_Angeles:20240223T153000
DTSTAMP:20260423T102131
CREATED:20240109T141854Z
LAST-MODIFIED:20240109T141943Z
UID:1293695-1708675200-1708702200@cgia.org
SUMMARY:LA Geospatial Summit
DESCRIPTION:Network at the annual 2024 LA Geospatial Summit in Los Angeles\, live and in-person with fellow students\, young professionals from throughout the Southland and eminent industry leaders. \nGain insights on GIS industry trends and opportunities. \nShare your research in an ArcGIS StoryMap or lightning talk.
URL:https://cgia.org/calendar/la-geospatial-summit/
LOCATION:USC Hotel\, 3540 S Figueroa St\, Los Angeles\, CA\, 90007\, United States
END:VEVENT
BEGIN:VEVENT
DTSTART;TZID=America/Los_Angeles:20240221T120000
DTEND;TZID=America/Los_Angeles:20240221T130000
DTSTAMP:20260423T102131
CREATED:20240128T034953Z
LAST-MODIFIED:20240128T035110Z
UID:1293773-1708516800-1708520400@cgia.org
SUMMARY:To GISP or Not to GISP? That is the Question! - CGIA Webinar
DESCRIPTION:Varying opinions argue for or against getting a GISP. The discussion will lay out the merits of a GISP and why or when a person may consider a different kind of certification or course of study to further one's career. Register at the link below! \nhttps://us06web.zoom.us/meeting/register/tZIvfuyqqDgoE9yTyjZGVpTXez1QjRoiQfTG#/registration \n 
URL:https://cgia.org/calendar/to-gisp-or-not-to-gisp-that-is-the-question/
LOCATION:CA
CATEGORIES:CGIA Event
ORGANIZER;CN="CGIA":MAILTO:chair@cgia.org
END:VEVENT
BEGIN:VEVENT
DTSTART;TZID=America/Los_Angeles:20240215T120000
DTEND;TZID=America/Los_Angeles:20240215T130000
DTSTAMP:20260423T102131
CREATED:20240204T222129Z
LAST-MODIFIED:20240204T222129Z
UID:1293811-1707998400-1708002000@cgia.org
SUMMARY:GIS & Equity Series Part 2: Communities in Need
DESCRIPTION:Please join us for the the second session of CGIA's Conversation Series on GIS & Equity. Register here:\n \nhttps://us06web.zoom.us/meeting/register/tZ0kde6hrDojE9TZfQ10etNPrTvb8osLMKwd#/registration \n"Disadvantaged\," "Underserved\," "Vulnerable." What do these terms mean for inclusivity and equitable distribution of government grants and services? Join CGIA ‘s upcoming Conversation about the Nomenclature and Geography of Communities in Need  on Thursday\, February 15\, at 12-1 p.m. to be held via Zoom\, to learn and join the discussion. \nThe administration of countless state and federal programs in California includes distributing funds and services to communities of people that experience economic disadvantage and exposure to environmental harm in their daily lives. But there are notable inconsistencies on how these communities are defined\, named\, and delineated\, causing confusion and sometimes consternation for the people in these communities as well as agency leaders and staff. Our special guest speakers are Maria Lorenzo-Lee\, Senior Water Resources Engineer with the Financial Assistance Branch of the California Department of Water Resources\, and Dr. Sheila Lakshmi Steinberg\, Professor of GIS\, Social and Environmental Sciences at the UMass Global Institute for Geospatial Education. Join us as we learn about these issues\, possible solutions\, available data tools\, and links to resources of interest to the GIS community of practice. The session will be hosted by CGIA board member Jane Schafer-Kramer. \nThis event will be recorded and posted on the CGIA website afterwards. To join this conversation\, please use this link to register and receive the Zoom connection information. Questions about this event may be directed to chair@cgia.org.
URL:https://cgia.org/calendar/gis-equity-series-part-2-communities-in-need/
LOCATION:CA
CATEGORIES:CGIA Event
ORGANIZER;CN="CGIA":MAILTO:chair@cgia.org
END:VEVENT
BEGIN:VEVENT
DTSTART;TZID=America/Los_Angeles:20240122T183000
DTEND;TZID=America/Los_Angeles:20240122T203000
DTSTAMP:20260423T102131
CREATED:20240115T190258Z
LAST-MODIFIED:20240115T190258Z
UID:1293703-1705948200-1705955400@cgia.org
SUMMARY:MaptimeLA Meeting - Travel Maps
DESCRIPTION:Details\n\n\nHappy New Year! The theme for our first MaptimeLA meeting of 2024 is TRAVEL! We will be making a list of all the destinations on our bucket list and pinning them in QGIS. Then\, we will export the finished map into a website that you can share with friends and family! Beginners are always welcome! \nWhat to Bring \n\nA laptop\nQGIS already installed on your laptop. If you run into issues\, you can arrive at 6pm and we can help you. QGIS Download Page\nGitHub account created. GitHub Signup Page\n\nAbout MaptimeLA\nOur mission is to open the doors of cartographic possibility to anyone interested by creating a time and space for collaborative learning\, exploration\, and map creation using mapping tools and technologies. Beginners are always welcome! \nTHANK YOU TO OUR SPONSORS:\nCGIA | California Geographic Information Association\ntheWorks.LA \nDonate money so we can support our local businesses\, provide delicious food and drink to our guests and keep this event forever free!
URL:https://cgia.org/calendar/maptimela-meeting-travel-maps/
LOCATION:Studious Coworking Space\, 418 Bamboo Ln A\, Los Angeles\, CA\, 90012\, United States
END:VEVENT
BEGIN:VEVENT
DTSTART;TZID=America/Los_Angeles:20231214T100000
DTEND;TZID=America/Los_Angeles:20231214T120000
DTSTAMP:20260423T102131
CREATED:20230913T133822Z
LAST-MODIFIED:20230913T133855Z
UID:1293512-1702548000-1702555200@cgia.org
SUMMARY:CGIA Community Council - Quarterly Meeting (Dec 2023)
DESCRIPTION:More details to come.
URL:https://cgia.org/calendar/cgia-community-council-quarterly-meeting-2/
LOCATION:CA
CATEGORIES:CGIA Event
END:VEVENT
BEGIN:VEVENT
DTSTART;TZID=America/Los_Angeles:20231130T123000
DTEND;TZID=America/Los_Angeles:20231130T133000
DTSTAMP:20260423T102131
CREATED:20231022T153340Z
LAST-MODIFIED:20231022T153429Z
UID:1293588-1701347400-1701351000@cgia.org
SUMMARY:CGIA GIS & Equity Series: Session 1 - Tribal GIS
DESCRIPTION:From November 2023 to April 2024\, the California Geographic Information Association (CGIA) will host a Conversation Series showcasing diverse perspectives and solutions in response to the GIS profession’s most pressing challenges in equity and representation. \nThe first session is on Tribal GIS. Guests will discuss the use of Tribal land representation in maps\, Tribal Data Sovereignty\, and access to GIS resources for California Tribes. \nGo here to register for the first Conversation:\nhttps://us06web.zoom.us/meeting/register/tZAvd--rpzIqHtZqFGEcaQGSk6p8WPqaC1vR\n  \n  \n 
URL:https://cgia.org/calendar/cgia-gis-equity-series-session-1-tribal-gis/
LOCATION:CA
CATEGORIES:CGIA Event
END:VEVENT
BEGIN:VEVENT
DTSTART;TZID=America/Los_Angeles:20231115T110000
DTEND;TZID=America/Los_Angeles:20231115T190000
DTSTAMP:20260423T102131
CREATED:20230824T022932Z
LAST-MODIFIED:20230824T024326Z
UID:1293464-1700046000-1700074800@cgia.org
SUMMARY:GIS Day 2023 - University of Redlands
DESCRIPTION:Discovering the World Through GIS! \nCelebrate GIS (Geographic Information Systems) and the difference it is making on campus and around the world! GIS Day has been celebrated around the world since 1999 and provides an international forum for users of all kinds to showcase their applications and demonstrate the difference that it is making in our society.
URL:https://cgia.org/calendar/gis-day-2023-university-of-redlands/
LOCATION:CA
CATEGORIES:Community Events
END:VEVENT
BEGIN:VEVENT
DTSTART;VALUE=DATE:20231115
DTEND;VALUE=DATE:20231116
DTSTAMP:20260423T102131
CREATED:20230824T013708Z
LAST-MODIFIED:20230824T013709Z
UID:1293459-1700006400-1700092799@cgia.org
SUMMARY:Los Angeles County GIS Day
DESCRIPTION:
URL:https://cgia.org/calendar/los-angeles-county-gis-day/
LOCATION:Grand Park\, 200 N Grand Ave\, Los Angeles\, California\, 90012\, United States
CATEGORIES:Community Events
END:VEVENT
BEGIN:VEVENT
DTSTART;VALUE=DATE:20231109
DTEND;VALUE=DATE:20231110
DTSTAMP:20260423T102131
CREATED:20231009T191641Z
LAST-MODIFIED:20231009T191651Z
UID:1293536-1699488000-1699574399@cgia.org
SUMMARY:Solano Regional GIS Consortium GIS Day
DESCRIPTION:"Join us in a conversation about the potential of Geographic Information Systems (GIS) and celebrate its impact on Solano County! We are thrilled to announce a one-day event in honor of GIS Day\, and you're invited to be a part of this empowering experience."
URL:https://cgia.org/calendar/solano-regional-gis-consortium-gis-day/
LOCATION:Solano County Events Center\, 601 Texas Street\, Fairfield\, CA\, 94533\, United States
CATEGORIES:Community Events
END:VEVENT
BEGIN:VEVENT
DTSTART;TZID=America/Los_Angeles:20231107T113000
DTEND;TZID=America/Los_Angeles:20231107T130000
DTSTAMP:20260423T102131
CREATED:20231012T002342Z
LAST-MODIFIED:20231012T002342Z
UID:1293543-1699356600-1699362000@cgia.org
SUMMARY:CGIA Annual Meeting (2023)
DESCRIPTION:This meeting is for CGIA members only. The Board will discuss efforts for the 2023-24 term and members will have an opportunity to take part in discussions. Reach out to chair@cgia.org if you would like to attend!
URL:https://cgia.org/calendar/cgia-annual-meeting-2023/
LOCATION:CA
CATEGORIES:CGIA Event
ORGANIZER;CN="CGIA":MAILTO:chair@cgia.org
END:VEVENT
BEGIN:VEVENT
DTSTART;VALUE=DATE:20231016
DTEND;VALUE=DATE:20231020
DTSTAMP:20260423T102131
CREATED:20230913T133311Z
LAST-MODIFIED:20230913T133329Z
UID:1293503-1697414400-1697759999@cgia.org
SUMMARY:GIS-Pro 2023
DESCRIPTION:The GIS Community will gather in Columbus\, Ohio for education\, training\, connections\, and solutions. Take advantage of the opportunity to engage and discuss\, learn from different perspectives and enjoy relevant and invaluable peer-to-peer interaction. GIS professionals from across the country developed an educational agenda that is second to none and relevant in today's challenging environment.
URL:https://cgia.org/calendar/gis-pro-2023/
LOCATION:Hilton Columbus Downtown\, 401 North High Stree\, Columbus\, OH\, 43215\, United States
END:VEVENT
BEGIN:VEVENT
DTSTART;TZID=America/Los_Angeles:20230922T100000
DTEND;TZID=America/Los_Angeles:20230922T140000
DTSTAMP:20260423T102131
CREATED:20230919T010751Z
LAST-MODIFIED:20230919T010815Z
UID:1293518-1695376800-1695391200@cgia.org
SUMMARY:California Native American Day (State Capitol)
DESCRIPTION:Protecting Our People Through Sovereignty: Past\, Present\, and Future\n56th Annual California Native American Day at the California State Capitol Building \nFriday\, September 22\, 2023 from 10:00 AM to 2:00 PM \n 
URL:https://cgia.org/calendar/1293518/
LOCATION:California State Capitol Building\, 1315 10th St\, Sacramento\, CA\, 95814\, United States
CATEGORIES:Community Events
END:VEVENT
BEGIN:VEVENT
DTSTART;TZID=America/Los_Angeles:20230921T090000
DTEND;TZID=America/Los_Angeles:20230921T113000
DTSTAMP:20260423T102131
CREATED:20230908T183908Z
LAST-MODIFIED:20230908T183909Z
UID:1293486-1695286800-1695295800@cgia.org
SUMMARY:Inland Empire GIS User Group Meeting
DESCRIPTION:
URL:https://cgia.org/calendar/inland-empire-gis-user-group-meeting/
LOCATION:Elsinore Valley Municipal Water District HQ\, 31315 Chaney St\, Lake Elsinore\, CA\, 92530\, United States
CATEGORIES:Community Events
END:VEVENT
BEGIN:VEVENT
DTSTART;TZID=America/Los_Angeles:20230914T100000
DTEND;TZID=America/Los_Angeles:20230914T120000
DTSTAMP:20260423T102131
CREATED:20230913T133541Z
LAST-MODIFIED:20230913T133613Z
UID:1293507-1694685600-1694692800@cgia.org
SUMMARY:CGIA Community Council Quarterly Meeting
DESCRIPTION:The next quarterly meeting of the CGIA Community Council is planned for Thursday\, September 14\, 10:00 a.m. to 12 noon. This web meeting will be held on Zoom. Please register to receive the join information at: https://us06web.zoom.us/meeting/register/tZYkfuuhpjwtH9Q-K74gjT9Y-4t01riEoqbc After you register you will receive an email from Zoom with a link to add the meeting to your calendar. \nThe agenda is posted at this link. \nThe meeting features a presentation on the NOAA Coastal Change Analysis Program’s release of a new 1-meter resolution land cover product\, A short presentation on FIRIS\, the Fire Integrated Real-time Intelligence System that provides real-time intelligence data and analysis on emerging disaster incidents in California\, a report on the National States Geographic Information Council’s initiatives regarding National Spatial Data Infrastructure\, updates from the California Department of Technology\, and more. \nThe meeting will be recorded for note-taking purposes only. Highlights from the June meeting are available at this link .
URL:https://cgia.org/calendar/cgia-community-council-quarterly-meeting/
LOCATION:CA
CATEGORIES:CGIA Event
END:VEVENT
END:VCALENDAR