BEGIN:VCALENDAR
VERSION:2.0
PRODID:-//CGIA - ECPv6.15.20//NONSGML v1.0//EN
CALSCALE:GREGORIAN
METHOD:PUBLISH
X-ORIGINAL-URL:https://cgia.org
X-WR-CALDESC:Events for CGIA
REFRESH-INTERVAL;VALUE=DURATION:PT1H
X-Robots-Tag:noindex
X-PUBLISHED-TTL:PT1H
BEGIN:VTIMEZONE
TZID:America/Los_Angeles
BEGIN:DAYLIGHT
TZOFFSETFROM:-0800
TZOFFSETTO:-0700
TZNAME:PDT
DTSTART:20240310T100000
END:DAYLIGHT
BEGIN:STANDARD
TZOFFSETFROM:-0700
TZOFFSETTO:-0800
TZNAME:PST
DTSTART:20241103T090000
END:STANDARD
BEGIN:DAYLIGHT
TZOFFSETFROM:-0800
TZOFFSETTO:-0700
TZNAME:PDT
DTSTART:20250309T100000
END:DAYLIGHT
BEGIN:STANDARD
TZOFFSETFROM:-0700
TZOFFSETTO:-0800
TZNAME:PST
DTSTART:20251102T090000
END:STANDARD
BEGIN:DAYLIGHT
TZOFFSETFROM:-0800
TZOFFSETTO:-0700
TZNAME:PDT
DTSTART:20260308T100000
END:DAYLIGHT
BEGIN:STANDARD
TZOFFSETFROM:-0700
TZOFFSETTO:-0800
TZNAME:PST
DTSTART:20261101T090000
END:STANDARD
BEGIN:DAYLIGHT
TZOFFSETFROM:-0800
TZOFFSETTO:-0700
TZNAME:PDT
DTSTART:20270314T100000
END:DAYLIGHT
BEGIN:STANDARD
TZOFFSETFROM:-0700
TZOFFSETTO:-0800
TZNAME:PST
DTSTART:20271107T090000
END:STANDARD
END:VTIMEZONE
BEGIN:VEVENT
DTSTART;VALUE=DATE:20251202
DTEND;VALUE=DATE:20251204
DTSTAMP:20260423T173128
CREATED:20251104T163920Z
LAST-MODIFIED:20251104T164223Z
UID:1295917-1764709200-1764795599@cgia.org
SUMMARY:Future Directions for Earth Observations and Data Stewardship: A Workshop
DESCRIPTION:This online workshop will convene participants from across the Earth observations community to exchange ideas on enhancing coordination\, collaboration\, and governance mechanisms to support a more robust ecosystem for the creation\, curation\, and operation of Earth observations and associated tools. In particular\, the workshop will explore the respective roles of the public sector\, for-profit and not-for-profit private sectors\, philanthropy\, and academia in developing strategies for addressing challenges and opportunities for resilient Earth observations and data across the growing breadth of Earth observation providers\, data\, applications\, and users. Register at the link provided. \nWorkshop objectives: \n\nAssess the contributions\, including strengths and weaknesses\, of each sector in collection\,  stewardship\, coordination\, and governance of Earth observation data\, within the global context. Consider how the roles and responsibilities may need to evolve to support and strengthen a diverse and interconnected global system in response to multiple users.\nExamine barriers\, including institutional\, legal\, political\, financial\, and technological\, that have limited creation and use of Earth observations data.  Explore opportunities to strengthen governance and improve data sharing to enhance resilience of Earth observation data.\nDiscuss common goals and approaches for improving and broadening cross-sector communication and maximizing data use and efficiency with the goal of establishing a more resilient and equitable globally integrated Earth observation system that meets evolving societal and economic needs\, as well as the need for ongoing research.
URL:https://cgia.org/calendar/future-directions-for-earth-observations-and-data-stewardship-a-workshop/
END:VEVENT
BEGIN:VEVENT
DTSTART;VALUE=DATE:20260120
DTEND;VALUE=DATE:20260124
DTSTAMP:20260423T173128
CREATED:20251118T031224Z
LAST-MODIFIED:20251118T031224Z
UID:1295961-1768867200-1769212799@cgia.org
SUMMARY:CalGIS 2026 Jan 20-23\, 2026
DESCRIPTION:Hosted by GPN's California Chapter\, CalGIS features education and training\, and ample opportunities to build your professional network and find solutions. \nCalGIS 2026 will take place on the Esri Campus in Redlands\, California. And because there are so many GIS conferences in the spring months\, we decided to adjust the timing of CalGIS to make participation easier for the GIS community. The conference will be January 20-23\, 2026.  \nThere is no better venue to connect with the California Geospatial Community than CalGIS!  Don't miss workshops and training\, keynote speakers\, breakout sessions\, networking\, and a Solutions Showcase. \nAttendance at CalGIS earns substantial GISP® Education Points. Presenting at CalGIS earns substantial GISP® Contributions Points. \nParticipation is limited. Don't delay! 
URL:https://cgia.org/calendar/calgis-2026-jan-20-23-2026/
END:VEVENT
BEGIN:VEVENT
DTSTART;TZID=America/Los_Angeles:20260212T120000
DTEND;TZID=America/Los_Angeles:20260212T133000
DTSTAMP:20260423T173128
CREATED:20260209T190340Z
LAST-MODIFIED:20260209T190340Z
UID:1296149-1770897600-1770903000@cgia.org
SUMMARY:3D Hydrography for California Forum
DESCRIPTION:Development of Statewide Elevation-Derived Hydrography Data for California: A Federal-State-Regional-Local-Public-Private Community Effort \nZoom meeting registration: https://us06web.zoom.us/meeting/register/3__XloQWSGa6pQlqtXZcKA
URL:https://cgia.org/calendar/3d-hydrography-for-california-forum/
END:VEVENT
BEGIN:VEVENT
DTSTART;VALUE=DATE:20260227
DTEND;VALUE=DATE:20260228
DTSTAMP:20260423T173128
CREATED:20251118T031738Z
LAST-MODIFIED:20260127T211057Z
UID:1295964-1772150400-1772236799@cgia.org
SUMMARY:2026 Los Angeles Geospatial Summit
DESCRIPTION:About this Event: \n\nThe USC Hotel\, Galleria Lobby (Second Floor)View map  \n\nAdd to calendar  \n\n\n\n\n3540 South Figueroa Street\, Los Angeles\, CA 90089 \nhttps://dornsife.usc.edu/spatial/2026-los-angeles-geospatial-summit/ #2026LAGeospatialSummit \n\n\n\n\n\nNetwork in person at the 2026 Los Angeles Geospatial Summit with fellow students\, young professionals from throughout the Southland\, eminent industry leaders and recruiters. \nGain insights on GIS industry trends and opportunities. Share your research in an ArcGIS StoryMap or Lightning talk.\nJoin us Friday\, February 27\, 2026\, at the USC Hotel (3540 S Figueroa St\, Los Angeles\, CA 90007).\nVisit our webpage for all details and registration. \n\n\nThis program is open to all eligible individuals. USC operates all of its programs and activities consistent with the university’s Notice of Non-Discrimination. Eligibility is not determined based on race\, sex\, ethnicity\, sexual orientation or any other prohibited factor.
URL:https://cgia.org/calendar/2026-los-angeles-geospatial-summit/
LOCATION:USC Hotel\, 3540 S Figueroa St\, Los Angeles\, CA\, 90007\, United States
END:VEVENT
BEGIN:VEVENT
DTSTART;TZID=America/Los_Angeles:20260304T090000
DTEND;TZID=America/Los_Angeles:20260304T120000
DTSTAMP:20260423T173128
CREATED:20250916T165449Z
LAST-MODIFIED:20250916T165654Z
UID:1295834-1772614800-1772625600@cgia.org
SUMMARY:Sacramento GIS User Group meeting\, March 4\, 2026
DESCRIPTION:Three hours of presentations by Sacramento area GIS Professionals\, plus networking time
URL:https://cgia.org/calendar/sacramento-gis-user-group-meeting-march-4-2026/
LOCATION:Sacramento City Council Chambers\, 915 I Street\, Sacramento\, CA\, 95814\, United States
END:VEVENT
BEGIN:VEVENT
DTSTART;TZID=America/Los_Angeles:20260327T120000
DTEND;TZID=America/Los_Angeles:20260327T133000
DTSTAMP:20260423T173128
CREATED:20260310T174013Z
LAST-MODIFIED:20260314T002625Z
UID:1296233-1774612800-1774618200@cgia.org
SUMMARY:GIS & AI: A 4-Part Webinar Series #1
DESCRIPTION:CGIA will be hosting a 4-part webinar series on GIS & AI. The first session "How GIS and AI Work (Integrating GIS and AI technologies)" is set for March 27\, 12-1:30 pm. This session will explore the technical fusion of GIS and AI technologies with a panel of speakers.
URL:https://cgia.org/calendar/gis-ai-a-4-part-webinar-series-1/
END:VEVENT
BEGIN:VEVENT
DTSTART;TZID=America/Los_Angeles:20260424T120000
DTEND;TZID=America/Los_Angeles:20260424T133000
DTSTAMP:20260423T173128
CREATED:20260310T174359Z
LAST-MODIFIED:20260409T222237Z
UID:1296236-1777032000-1777037400@cgia.org
SUMMARY:GIS & AI: A 4-Part Webinar Series #2
DESCRIPTION:CGIA will be hosting a 4-part webinar series on GIS & AI. The second session "AI Skills\, Workspace\, and Training/Learning (3P: Industry\, Public Sector\, Academic)" is set for April 24\, 12-1:30 pm. This session will discover the essential skills and training for the future workforce. \nCGIA GIS and AI Seminar 2 - Speaker Profiles
URL:https://cgia.org/calendar/gis-ai-a-4-part-webinar-series-2/
END:VEVENT
BEGIN:VEVENT
DTSTART;TZID=America/Los_Angeles:20260509T153000
DTEND;TZID=America/Los_Angeles:20260509T220000
DTSTAMP:20260423T173128
CREATED:20260409T221658Z
LAST-MODIFIED:20260409T234324Z
UID:1296289-1778340600-1778364000@cgia.org
SUMMARY:CGIA NorCal Meet-Up
DESCRIPTION:CGIA is hosting a meetup in West Sacramento for CGIA members and their guests. We will be meeting from 3:30pm to 6:00pm at Drake's: The Barn for a mappy hour and then walking over to Sutter Health Park to see the Sacramento River Cats play the Reno Aces from 6:30pm to the end of the game. Tickets cost $27.75 and can be purchased at rivercatsgroups.com/CGIA. First 25 CGIA members to purchase tickets will receive a voucher that they can redeem for food\, drinks\, or merch at the game!                                                                                                                                          
URL:https://cgia.org/calendar/cgia-norcal-meet-up/
LOCATION:Drake’s: The Barn 3:30-6:30pm\, Sutter Health Park 6:30-10:00pm
ORGANIZER;CN="CGIA":MAILTO:chair@cgia.org
END:VEVENT
BEGIN:VEVENT
DTSTART;VALUE=DATE:20260521
DTEND;VALUE=DATE:20260523
DTSTAMP:20260423T173128
CREATED:20260220T003137Z
LAST-MODIFIED:20260220T003137Z
UID:1296212-1779321600-1779494399@cgia.org
SUMMARY:2026 California Native American Tribal GIS Summit
DESCRIPTION:"Mapping Resilience: GIS for Climate\, Culture\, and Community"\n\n\nMay 21 and 22\, 2026\, At University of Redlands. FREE Event (Registration OPEN)\n\n\nRegistration Required to get Planning updates\n\nCLICK HERE TO REGISTER ===> REGISTRATION FORM or https://arcg.is/qLyXv \n\n\n\nNOW - Accepting Sponsorship\n\nJoin in on the sponsorship for this summit - CLICK HERE -  Sponsorship Summit or https://catribalgis.org/sponsorship-summit \n\n\n\nCore Topic Categories for the Summit 2026\n\n  \n\nTribal Data Governance\, Sovereignty\, and Ethical Practices\nCultural Preservation\, Indigenous Knowledge\, and Land Stewardship\nEnvironmental\, Natural Resource\, and Public Health Applications\nGIS Technology\, Tools\, and Technical Skills Development\nPartnerships\, Collaboration\, and Cross-Agency Engagement\nOrganizational Capacity Building\, Leadership\, and Governance\n\n  \n\n\n\nNOW - Accepting Proposed Presentations\n\nFor proposed presentation submittals -CLICK HERE for submittal form:    Proposed Presentation or https://catribalgis.org/propose-presentation \nDeadline: 2/27/2026 \n\n\n\nCultural Event (EVENING 5/21/2026) and NOW ACCEPTING Arts&Craft Vendors Applications\n\n\nAPPLICATIONS and CULTURAL EVENT INFORMATION - E-MAIL: nativestudentprograms@redlands.edu\n\n\nAny interest or questions about 2026 summit - email: info@catribalgis.org
URL:https://cgia.org/calendar/2026-california-native-american-tribal-gis-summit/
END:VEVENT
BEGIN:VEVENT
DTSTART;TZID=America/Los_Angeles:20260529T120000
DTEND;TZID=America/Los_Angeles:20260529T133000
DTSTAMP:20260423T173128
CREATED:20260310T174702Z
LAST-MODIFIED:20260314T002720Z
UID:1296239-1780056000-1780061400@cgia.org
SUMMARY:GIS & AI: A 4-Part Webinar Series #3
DESCRIPTION:CGIA will be hosting a 4-part webinar series on GIS & AI. The third session "AI Policy\, Legislative\, and Management Aspects Integration" is set for May 29\, 12-1:30 pm. This session will help us understand the legislative and management implications.
URL:https://cgia.org/calendar/gis-ai-a-4-part-webinar-series-3/
END:VEVENT
END:VCALENDAR