BEGIN:VCALENDAR
VERSION:2.0
PRODID:-//CGIA - ECPv6.15.20//NONSGML v1.0//EN
CALSCALE:GREGORIAN
METHOD:PUBLISH
X-ORIGINAL-URL:https://cgia.org
X-WR-CALDESC:Events for CGIA
REFRESH-INTERVAL;VALUE=DURATION:PT1H
X-Robots-Tag:noindex
X-PUBLISHED-TTL:PT1H
BEGIN:VTIMEZONE
TZID:America/Los_Angeles
BEGIN:DAYLIGHT
TZOFFSETFROM:-0800
TZOFFSETTO:-0700
TZNAME:PDT
DTSTART:20230312T100000
END:DAYLIGHT
BEGIN:STANDARD
TZOFFSETFROM:-0700
TZOFFSETTO:-0800
TZNAME:PST
DTSTART:20231105T090000
END:STANDARD
BEGIN:DAYLIGHT
TZOFFSETFROM:-0800
TZOFFSETTO:-0700
TZNAME:PDT
DTSTART:20240310T100000
END:DAYLIGHT
BEGIN:STANDARD
TZOFFSETFROM:-0700
TZOFFSETTO:-0800
TZNAME:PST
DTSTART:20241103T090000
END:STANDARD
BEGIN:DAYLIGHT
TZOFFSETFROM:-0800
TZOFFSETTO:-0700
TZNAME:PDT
DTSTART:20250309T100000
END:DAYLIGHT
BEGIN:STANDARD
TZOFFSETFROM:-0700
TZOFFSETTO:-0800
TZNAME:PST
DTSTART:20251102T090000
END:STANDARD
END:VTIMEZONE
BEGIN:VEVENT
DTSTART;TZID=America/Los_Angeles:20240403T120000
DTEND;TZID=America/Los_Angeles:20240403T130000
DTSTAMP:20260425T062904
CREATED:20240324T195429Z
LAST-MODIFIED:20240324T195429Z
UID:1294221-1712145600-1712149200@cgia.org
SUMMARY:2024 CGIA Professional Development Series #2: What Other Letters Can You Put After Your Name: Certs & Degrees in GIS (April 3rd)
DESCRIPTION:CGIA is thrilled to announce our Professional Development Speaker Series and Workshop\, aimed at fostering the growth of GIS professionals and enhancing career prospects in the industry. This session serves as a continuation of our initial discussion\, which delved deeply into the advantages and disadvantages of obtaining a GISP certification. For session #2\, we extend a warm invitation to the GIS Community and our members to explore the reasons why individuals might view your certification or degree program as a valuable alternative or complement to a GISP. Join us for our upcoming session titled "What Other Letters Can You Put After Your Name: Certs & Degrees in GIS" on April 3rd. We are honored to have distinguished speakers including Al Karlin\, Ph.D\, CMS-l\, GISP\, Bobby Viola\, and Ruijin Ma\, Ph.D.\n\nRSVP\nTopic: CGIA Professional Development Series #2: What Other Letters Can You Put After Your Name: Certs & Degrees in GIS\nDate and Time: Wednesday\, April 3rd\, 2024 (12 noon - 1 pm PST)\nZoom Registration Link: https://us06web.zoom.us/meeting/register/tZMtcOigrTguG90OJCVmvcEUvfIk39mgAUM7
URL:https://cgia.org/calendar/2024-cgia-professional-development-series-2-what-other-letters-can-you-put-after-your-name-certs-degrees-in-gis-april-3rd/
CATEGORIES:CGIA Event
ORGANIZER;CN="CGIA":MAILTO:chair@cgia.org
END:VEVENT
END:VCALENDAR