BEGIN:VCALENDAR
VERSION:2.0
PRODID:-//CGIA - ECPv6.15.20//NONSGML v1.0//EN
CALSCALE:GREGORIAN
METHOD:PUBLISH
X-ORIGINAL-URL:https://cgia.org
X-WR-CALDESC:Events for CGIA
REFRESH-INTERVAL;VALUE=DURATION:PT1H
X-Robots-Tag:noindex
X-PUBLISHED-TTL:PT1H
BEGIN:VTIMEZONE
TZID:America/Los_Angeles
BEGIN:DAYLIGHT
TZOFFSETFROM:-0800
TZOFFSETTO:-0700
TZNAME:PDT
DTSTART:20230312T100000
END:DAYLIGHT
BEGIN:STANDARD
TZOFFSETFROM:-0700
TZOFFSETTO:-0800
TZNAME:PST
DTSTART:20231105T090000
END:STANDARD
BEGIN:DAYLIGHT
TZOFFSETFROM:-0800
TZOFFSETTO:-0700
TZNAME:PDT
DTSTART:20240310T100000
END:DAYLIGHT
BEGIN:STANDARD
TZOFFSETFROM:-0700
TZOFFSETTO:-0800
TZNAME:PST
DTSTART:20241103T090000
END:STANDARD
BEGIN:DAYLIGHT
TZOFFSETFROM:-0800
TZOFFSETTO:-0700
TZNAME:PDT
DTSTART:20250309T100000
END:DAYLIGHT
BEGIN:STANDARD
TZOFFSETFROM:-0700
TZOFFSETTO:-0800
TZNAME:PST
DTSTART:20251102T090000
END:STANDARD
END:VTIMEZONE
BEGIN:VEVENT
DTSTART;TZID=America/Los_Angeles:20240215T120000
DTEND;TZID=America/Los_Angeles:20240215T130000
DTSTAMP:20260425T094436
CREATED:20240204T222129Z
LAST-MODIFIED:20240204T222129Z
UID:1293811-1707998400-1708002000@cgia.org
SUMMARY:GIS & Equity Series Part 2: Communities in Need
DESCRIPTION:Please join us for the the second session of CGIA's Conversation Series on GIS & Equity. Register here:\n \nhttps://us06web.zoom.us/meeting/register/tZ0kde6hrDojE9TZfQ10etNPrTvb8osLMKwd#/registration \n"Disadvantaged\," "Underserved\," "Vulnerable." What do these terms mean for inclusivity and equitable distribution of government grants and services? Join CGIA ‘s upcoming Conversation about the Nomenclature and Geography of Communities in Need  on Thursday\, February 15\, at 12-1 p.m. to be held via Zoom\, to learn and join the discussion. \nThe administration of countless state and federal programs in California includes distributing funds and services to communities of people that experience economic disadvantage and exposure to environmental harm in their daily lives. But there are notable inconsistencies on how these communities are defined\, named\, and delineated\, causing confusion and sometimes consternation for the people in these communities as well as agency leaders and staff. Our special guest speakers are Maria Lorenzo-Lee\, Senior Water Resources Engineer with the Financial Assistance Branch of the California Department of Water Resources\, and Dr. Sheila Lakshmi Steinberg\, Professor of GIS\, Social and Environmental Sciences at the UMass Global Institute for Geospatial Education. Join us as we learn about these issues\, possible solutions\, available data tools\, and links to resources of interest to the GIS community of practice. The session will be hosted by CGIA board member Jane Schafer-Kramer. \nThis event will be recorded and posted on the CGIA website afterwards. To join this conversation\, please use this link to register and receive the Zoom connection information. Questions about this event may be directed to chair@cgia.org.
URL:https://cgia.org/calendar/gis-equity-series-part-2-communities-in-need/
CATEGORIES:CGIA Event
ORGANIZER;CN="CGIA":MAILTO:chair@cgia.org
END:VEVENT
BEGIN:VEVENT
DTSTART;TZID=America/Los_Angeles:20240221T120000
DTEND;TZID=America/Los_Angeles:20240221T130000
DTSTAMP:20260425T094436
CREATED:20240128T034953Z
LAST-MODIFIED:20240128T035110Z
UID:1293773-1708516800-1708520400@cgia.org
SUMMARY:To GISP or Not to GISP? That is the Question! - CGIA Webinar
DESCRIPTION:Varying opinions argue for or against getting a GISP. The discussion will lay out the merits of a GISP and why or when a person may consider a different kind of certification or course of study to further one's career. Register at the link below! \nhttps://us06web.zoom.us/meeting/register/tZIvfuyqqDgoE9yTyjZGVpTXez1QjRoiQfTG#/registration \n 
URL:https://cgia.org/calendar/to-gisp-or-not-to-gisp-that-is-the-question/
CATEGORIES:CGIA Event
ORGANIZER;CN="CGIA":MAILTO:chair@cgia.org
END:VEVENT
END:VCALENDAR